BEGIN:VCALENDAR
VERSION:2.0
PRODID:-//https://www.womenaffirmingwomen.org//NONSGML kigkonsult.se iCalcreator 2.41.71//
CALSCALE:GREGORIAN
METHOD:PUBLISH
UID:34646530-3838-4733-a337-623634333030
X-WR-CALNAME:JCal Pro Calendar
X-WR-CALDESC:Your online events calendar
X-WR-TIMEZONE:UTC
BEGIN:VTIMEZONE
TZID:UTC
END:VTIMEZONE
BEGIN:VEVENT
UID:20240216T090000UTC-1479wvvbPn@https://womenaffirmingwomen.org/
DTSTAMP:20260419T151916Z
CATEGORIES:Noteworthy Dates
DTSTART:20240312T090000Z
DTEND:20240312T100000Z
SUMMARY:National Working Moms Day
URL:https://www.womenaffirmingwomen.org/jcal-calendar/11-noteworthy-dates/3
 -national-working-moms-day
END:VEVENT
END:VCALENDAR
