BEGIN:VCALENDAR
VERSION:2.0
PRODID:-//https://www.womenaffirmingwomen.org//NONSGML kigkonsult.se iCalcreator 2.41.71//
CALSCALE:GREGORIAN
METHOD:PUBLISH
UID:66336138-6336-4263-b966-386539396466
X-WR-CALNAME:JCal Pro Calendar
X-WR-CALDESC:Your online events calendar
X-WR-TIMEZONE:UTC
BEGIN:VTIMEZONE
TZID:UTC
END:VTIMEZONE
BEGIN:VEVENT
UID:20240301T090000UTC-4588bGooS2@https://womenaffirmingwomen.org/
DTSTAMP:20260421T222929Z
CATEGORIES:Noteworthy Dates
DTSTART:20240301T000000Z
DTEND:20240301T000000Z
SUMMARY:National Women’s History Month
URL:https://www.womenaffirmingwomen.org/jcal-calendar/11-noteworthy-dates/2
 -national-womens-history-month
END:VEVENT
END:VCALENDAR
